BEGIN:VCALENDAR
VERSION:2.0
PRODID:-//Zukunftschecker #Ruediger - ECPv6.15.20//NONSGML v1.0//EN
CALSCALE:GREGORIAN
METHOD:PUBLISH
X-ORIGINAL-URL:https://zukunftschecker.de
X-WR-CALDESC:Veranstaltungen für Zukunftschecker #Ruediger
REFRESH-INTERVAL;VALUE=DURATION:PT1H
X-Robots-Tag:noindex
X-PUBLISHED-TTL:PT1H
BEGIN:VTIMEZONE
TZID:Europe/Berlin
BEGIN:DAYLIGHT
TZOFFSETFROM:+0100
TZOFFSETTO:+0200
TZNAME:CEST
DTSTART:20250330T010000
END:DAYLIGHT
BEGIN:STANDARD
TZOFFSETFROM:+0200
TZOFFSETTO:+0100
TZNAME:CET
DTSTART:20251026T010000
END:STANDARD
BEGIN:DAYLIGHT
TZOFFSETFROM:+0100
TZOFFSETTO:+0200
TZNAME:CEST
DTSTART:20260329T010000
END:DAYLIGHT
BEGIN:STANDARD
TZOFFSETFROM:+0200
TZOFFSETTO:+0100
TZNAME:CET
DTSTART:20261025T010000
END:STANDARD
BEGIN:DAYLIGHT
TZOFFSETFROM:+0100
TZOFFSETTO:+0200
TZNAME:CEST
DTSTART:20270328T010000
END:DAYLIGHT
BEGIN:STANDARD
TZOFFSETFROM:+0200
TZOFFSETTO:+0100
TZNAME:CET
DTSTART:20271031T010000
END:STANDARD
END:VTIMEZONE
BEGIN:VEVENT
DTSTART;TZID=Europe/Berlin:20260224T160000
DTEND;TZID=Europe/Berlin:20260224T180000
DTSTAMP:20260423T112253
CREATED:20260108T095219Z
LAST-MODIFIED:20260108T095219Z
UID:3549-1771948800-1771956000@zukunftschecker.de
SUMMARY:Nacht der Ausbildung
DESCRIPTION:24. Febr 26 – Nacht der Ausbildung Magdeburg \nWelcher Beruf passt zu mir? Sich frühzeitig darüber Gedanken zu machen\, kann helfen\, die richtige Entscheidung zu treffen.\nZur Nacht der Ausbildung präsentieren regionale Unternehmen ihre Ausbildungsberufe und die Berufsberater/innen der Agentur für Arbeit beantworten Fragen rund um das Thema Ausbildung.
URL:https://zukunftschecker.de/veranstaltung/nacht-der-ausbildung-3/
LOCATION:BIZ – Berufsinformationszentrum der Agentur für Arbeit Sachsen-Anhalt Nord\, Hohepfortestr. 37\, Magdeburg\, Sachsen-Anhalt\, 39104\, Deutschland
ATTACH;FMTTYPE=image/jpeg:https://zukunftschecker.de/wp-content/uploads/Grafik-Studier-Bar.jpg
END:VEVENT
END:VCALENDAR