BEGIN:VCALENDAR
VERSION:2.0
PRODID:-//Zukunftschecker #Ruediger - ECPv6.15.20//NONSGML v1.0//EN
CALSCALE:GREGORIAN
METHOD:PUBLISH
X-ORIGINAL-URL:https://zukunftschecker.de
X-WR-CALDESC:Veranstaltungen für Zukunftschecker #Ruediger
REFRESH-INTERVAL;VALUE=DURATION:PT1H
X-Robots-Tag:noindex
X-PUBLISHED-TTL:PT1H
BEGIN:VTIMEZONE
TZID:Europe/Berlin
BEGIN:DAYLIGHT
TZOFFSETFROM:+0100
TZOFFSETTO:+0200
TZNAME:CEST
DTSTART:20250330T010000
END:DAYLIGHT
BEGIN:STANDARD
TZOFFSETFROM:+0200
TZOFFSETTO:+0100
TZNAME:CET
DTSTART:20251026T010000
END:STANDARD
BEGIN:DAYLIGHT
TZOFFSETFROM:+0100
TZOFFSETTO:+0200
TZNAME:CEST
DTSTART:20260329T010000
END:DAYLIGHT
BEGIN:STANDARD
TZOFFSETFROM:+0200
TZOFFSETTO:+0100
TZNAME:CET
DTSTART:20261025T010000
END:STANDARD
BEGIN:DAYLIGHT
TZOFFSETFROM:+0100
TZOFFSETTO:+0200
TZNAME:CEST
DTSTART:20270328T010000
END:DAYLIGHT
BEGIN:STANDARD
TZOFFSETFROM:+0200
TZOFFSETTO:+0100
TZNAME:CET
DTSTART:20271031T010000
END:STANDARD
END:VTIMEZONE
BEGIN:VEVENT
DTSTART;TZID=Europe/Berlin:20260121T073000
DTEND;TZID=Europe/Berlin:20260121T123000
DTSTAMP:20260423T124719
CREATED:20251113T143827Z
LAST-MODIFIED:20251117T072419Z
UID:2730-1768980600-1768998600@zukunftschecker.de
SUMMARY:Berufsorientierungsmesse BbS „Conrad Tack“
DESCRIPTION:21. Jan 26 – Berufsorientierungsmesse der BbS „Conrad Tack“ in Burg.
URL:https://zukunftschecker.de/veranstaltung/21-berufsorientierungsmesse-an-den-bbs-conrad-tack-des-lkjl-in-burg/
LOCATION:BbS Conrad Tack\, Magdeburger Chaussee 1\, Burg\, Sachsen-Anhalt\, 39288
ATTACH;FMTTYPE=image/png:https://zukunftschecker.de/wp-content/uploads/BOM-e1731508662225.png
END:VEVENT
END:VCALENDAR