BEGIN:VCALENDAR
VERSION:2.0
PRODID:-//Zukunftschecker #Ruediger - ECPv6.15.20//NONSGML v1.0//EN
CALSCALE:GREGORIAN
METHOD:PUBLISH
X-WR-CALNAME:Zukunftschecker #Ruediger
X-ORIGINAL-URL:https://zukunftschecker.de
X-WR-CALDESC:Veranstaltungen für Zukunftschecker #Ruediger
REFRESH-INTERVAL;VALUE=DURATION:PT1H
X-Robots-Tag:noindex
X-PUBLISHED-TTL:PT1H
BEGIN:VTIMEZONE
TZID:Europe/Berlin
BEGIN:DAYLIGHT
TZOFFSETFROM:+0100
TZOFFSETTO:+0200
TZNAME:CEST
DTSTART:20240331T010000
END:DAYLIGHT
BEGIN:STANDARD
TZOFFSETFROM:+0200
TZOFFSETTO:+0100
TZNAME:CET
DTSTART:20241027T010000
END:STANDARD
BEGIN:DAYLIGHT
TZOFFSETFROM:+0100
TZOFFSETTO:+0200
TZNAME:CEST
DTSTART:20250330T010000
END:DAYLIGHT
BEGIN:STANDARD
TZOFFSETFROM:+0200
TZOFFSETTO:+0100
TZNAME:CET
DTSTART:20251026T010000
END:STANDARD
BEGIN:DAYLIGHT
TZOFFSETFROM:+0100
TZOFFSETTO:+0200
TZNAME:CEST
DTSTART:20260329T010000
END:DAYLIGHT
BEGIN:STANDARD
TZOFFSETFROM:+0200
TZOFFSETTO:+0100
TZNAME:CET
DTSTART:20261025T010000
END:STANDARD
END:VTIMEZONE
BEGIN:VEVENT
DTSTART;TZID=Europe/Berlin:20251204T120000
DTEND;TZID=Europe/Berlin:20251204T150000
DTSTAMP:20260423T141239
CREATED:20251117T071846Z
LAST-MODIFIED:20251117T071836Z
UID:2996-1764849600-1764860400@zukunftschecker.de
SUMMARY:Zukunftsforum Arbeit
DESCRIPTION:4. Dez 25 – Thema „Fachkräfte aus dem Ausland gewinnen und integrieren“\nErfahrungen und Einblicke aus dem Jerichower Land mit EBA Elektro-Blitz & Antennenanlagen GmbH und dem Arbeitgeberservice der Agentur für Arbeit Sachsen-Anhalt Nord zum Thema Programme der Fachkräftegewinnung und Beschäftigtenqualifizierung. \nWann: 4. Dezember 2025\nZeit: 13:00 -16:00 Uhr \nOrt: Bahnhofstraße 9\, 39288 Burg \nAnmeldungen sind bis zum 1. Dezember 2025 möglich unter: Sachsen-Anhalt-Nord.Chancengleichheit@arbeitsagentur.de \n 
URL:https://zukunftschecker.de/veranstaltung/zukunftsforum-arbeit/
LOCATION:Landkreis Jerichower Land
ATTACH;FMTTYPE=image/jpeg:https://zukunftschecker.de/wp-content/uploads/Kopie-von-2025-12-4_Zukunftsforum_Arbeit.jpg
END:VEVENT
END:VCALENDAR