BEGIN:VCALENDAR
VERSION:2.0
PRODID:-//Zukunftschecker #Ruediger - ECPv6.15.20//NONSGML v1.0//EN
CALSCALE:GREGORIAN
METHOD:PUBLISH
X-WR-CALNAME:Zukunftschecker #Ruediger
X-ORIGINAL-URL:https://zukunftschecker.de
X-WR-CALDESC:Veranstaltungen für Zukunftschecker #Ruediger
REFRESH-INTERVAL;VALUE=DURATION:PT1H
X-Robots-Tag:noindex
X-PUBLISHED-TTL:PT1H
BEGIN:VTIMEZONE
TZID:Europe/Berlin
BEGIN:DAYLIGHT
TZOFFSETFROM:+0100
TZOFFSETTO:+0200
TZNAME:CEST
DTSTART:20230326T010000
END:DAYLIGHT
BEGIN:STANDARD
TZOFFSETFROM:+0200
TZOFFSETTO:+0100
TZNAME:CET
DTSTART:20231029T010000
END:STANDARD
BEGIN:DAYLIGHT
TZOFFSETFROM:+0100
TZOFFSETTO:+0200
TZNAME:CEST
DTSTART:20240331T010000
END:DAYLIGHT
BEGIN:STANDARD
TZOFFSETFROM:+0200
TZOFFSETTO:+0100
TZNAME:CET
DTSTART:20241027T010000
END:STANDARD
BEGIN:DAYLIGHT
TZOFFSETFROM:+0100
TZOFFSETTO:+0200
TZNAME:CEST
DTSTART:20250330T010000
END:DAYLIGHT
BEGIN:STANDARD
TZOFFSETFROM:+0200
TZOFFSETTO:+0100
TZNAME:CET
DTSTART:20251026T010000
END:STANDARD
BEGIN:DAYLIGHT
TZOFFSETFROM:+0100
TZOFFSETTO:+0200
TZNAME:CEST
DTSTART:20260329T010000
END:DAYLIGHT
BEGIN:STANDARD
TZOFFSETFROM:+0200
TZOFFSETTO:+0100
TZNAME:CET
DTSTART:20261025T010000
END:STANDARD
BEGIN:DAYLIGHT
TZOFFSETFROM:+0100
TZOFFSETTO:+0200
TZNAME:CEST
DTSTART:20270328T010000
END:DAYLIGHT
BEGIN:STANDARD
TZOFFSETFROM:+0200
TZOFFSETTO:+0100
TZNAME:CET
DTSTART:20271031T010000
END:STANDARD
BEGIN:DAYLIGHT
TZOFFSETFROM:+0100
TZOFFSETTO:+0200
TZNAME:CEST
DTSTART:20280326T010000
END:DAYLIGHT
BEGIN:STANDARD
TZOFFSETFROM:+0200
TZOFFSETTO:+0100
TZNAME:CET
DTSTART:20281029T010000
END:STANDARD
BEGIN:DAYLIGHT
TZOFFSETFROM:+0100
TZOFFSETTO:+0200
TZNAME:CEST
DTSTART:20290325T010000
END:DAYLIGHT
BEGIN:STANDARD
TZOFFSETFROM:+0200
TZOFFSETTO:+0100
TZNAME:CET
DTSTART:20291028T010000
END:STANDARD
BEGIN:DAYLIGHT
TZOFFSETFROM:+0100
TZOFFSETTO:+0200
TZNAME:CEST
DTSTART:20300331T010000
END:DAYLIGHT
BEGIN:STANDARD
TZOFFSETFROM:+0200
TZOFFSETTO:+0100
TZNAME:CET
DTSTART:20301027T010000
END:STANDARD
BEGIN:DAYLIGHT
TZOFFSETFROM:+0100
TZOFFSETTO:+0200
TZNAME:CEST
DTSTART:20310330T010000
END:DAYLIGHT
BEGIN:STANDARD
TZOFFSETFROM:+0200
TZOFFSETTO:+0100
TZNAME:CET
DTSTART:20311026T010000
END:STANDARD
BEGIN:DAYLIGHT
TZOFFSETFROM:+0100
TZOFFSETTO:+0200
TZNAME:CEST
DTSTART:20320328T010000
END:DAYLIGHT
BEGIN:STANDARD
TZOFFSETFROM:+0200
TZOFFSETTO:+0100
TZNAME:CET
DTSTART:20321031T010000
END:STANDARD
BEGIN:DAYLIGHT
TZOFFSETFROM:+0100
TZOFFSETTO:+0200
TZNAME:CEST
DTSTART:20330327T010000
END:DAYLIGHT
BEGIN:STANDARD
TZOFFSETFROM:+0200
TZOFFSETTO:+0100
TZNAME:CET
DTSTART:20331030T010000
END:STANDARD
BEGIN:DAYLIGHT
TZOFFSETFROM:+0100
TZOFFSETTO:+0200
TZNAME:CEST
DTSTART:20340326T010000
END:DAYLIGHT
BEGIN:STANDARD
TZOFFSETFROM:+0200
TZOFFSETTO:+0100
TZNAME:CET
DTSTART:20341029T010000
END:STANDARD
BEGIN:DAYLIGHT
TZOFFSETFROM:+0100
TZOFFSETTO:+0200
TZNAME:CEST
DTSTART:20350325T010000
END:DAYLIGHT
BEGIN:STANDARD
TZOFFSETFROM:+0200
TZOFFSETTO:+0100
TZNAME:CET
DTSTART:20351028T010000
END:STANDARD
BEGIN:DAYLIGHT
TZOFFSETFROM:+0100
TZOFFSETTO:+0200
TZNAME:CEST
DTSTART:20360330T010000
END:DAYLIGHT
BEGIN:STANDARD
TZOFFSETFROM:+0200
TZOFFSETTO:+0100
TZNAME:CET
DTSTART:20361026T010000
END:STANDARD
BEGIN:DAYLIGHT
TZOFFSETFROM:+0100
TZOFFSETTO:+0200
TZNAME:CEST
DTSTART:20370329T010000
END:DAYLIGHT
BEGIN:STANDARD
TZOFFSETFROM:+0200
TZOFFSETTO:+0100
TZNAME:CET
DTSTART:20371025T010000
END:STANDARD
END:VTIMEZONE
BEGIN:VEVENT
DTSTART;TZID=Europe/Berlin:20240926T070000
DTEND;TZID=Europe/Berlin:20250927T140000
DTSTAMP:20260423T200537
CREATED:20250722T114741Z
LAST-MODIFIED:20250722T131649Z
UID:2661-1727334000-1758981600@zukunftschecker.de
SUMMARY:Perspektiven Magdeburg
DESCRIPTION:26.-27. Sept. 25 – Ganztägiges Programm mit Ausstellerpräsentationen \nBereite dich vor\, sammle Informationen und starte durch auf der PERSPEKTIVEN Messe!
URL:https://zukunftschecker.de/veranstaltung/perspektiven-magdeburg-2024/
LOCATION:Messe Magdeburg\, Tessenowstraße 9a\, Magdeburg\, Sachsen-Anhalt\, 39114\, Deutschland
ATTACH;FMTTYPE=image/jpeg:https://zukunftschecker.de/wp-content/uploads/Unbenannt2.jpg
END:VEVENT
BEGIN:VEVENT
DTSTART;TZID=Europe/Berlin:20250826T150000
DTEND;TZID=Europe/Berlin:20250826T170000
DTSTAMP:20260423T200537
CREATED:20250721T095152Z
LAST-MODIFIED:20250919T065305Z
UID:2656-1756220400-1756227600@zukunftschecker.de
SUMMARY:Nacht der Ausbildung
DESCRIPTION:26. Aug. 25 – „Wir suchen… DICH!“ bereits zum 27. Mal veranstaltet die Agentur für Arbeit Sachsen-Anhalt Nord eine Ausbildungsbörse für Jugendliche. Unterstützt wird sie dabei von den Jobcentern Landeshauptstadt Magdeburg\, Börde\, Jerichower Land und Stendal. Viele Unternehmen der Region stellen sich den Jugendlichen und ihren Eltern vor. \nDie Arbeitsagentur bietet Schülerinnen und Schülern Orientierung und Beratung\, damit der Übergang von der Schule in den Beruf gelingt. Als passende Ergänzung dazu findet die Ausbildungsmesse „Nacht der Ausbildung“ wieder statt. Neben vielen regionalen Unternehmen und ihren Ausbildungsangeboten beantworten die Berufsberaterinnen und -berater viele Fragen rund um das Thema Ausbildung. \n\n\n\nHerzlich eingeladen sind alle Jugendlichen ab der 7. Klasse\, gern mit Eltern\, und junge Erwachsene die eine Ausbildung suchen oder sich informieren möchten. \nDer Eintritt ist kostenfrei und es ist keine Voranmeldung notwendig.
URL:https://zukunftschecker.de/veranstaltung/nacht-der-ausbildung/
LOCATION:BIZ – Berufsinformationszentrum der Agentur für Arbeit Sachsen-Anhalt Nord\, Hohepfortestr. 37\, Magdeburg\, Sachsen-Anhalt\, 39104\, Deutschland
ATTACH;FMTTYPE=image/jpeg:https://zukunftschecker.de/wp-content/uploads/Unbenannt1.jpg
END:VEVENT
BEGIN:VEVENT
DTSTART;TZID=Europe/Berlin:90000423T175653
DTEND;TZID=Europe/Berlin:34000423T175655
DTSTAMP:20260423T200537
CREATED:20250721T093246Z
LAST-MODIFIED:20250722T130959Z
UID:2652-221855133413-45136202215@zukunftschecker.de
SUMMARY:Parentum Magdeburg
DESCRIPTION:30. Aug. 25 – Ausbildung oder Studium\, Praktikum\, Ausland oder Freiwilliges Soziales Jahr\n„Was soll ich werden?“ Diese Frage beschäftigt nicht nur Jugendliche\, sondern auch ihre Eltern. Viele Mütter und Väter fragen sich\, wie sie ihr Kind optimal auf dem Weg in die Berufswelt unterstützen können. Die Berufsorientierungsmesse parentum bietet allen Interessierten\, denen das Thema Berufswahl wichtig ist\, zukunftsweisende Impulse\, Kontakte und Hilfestellungen.
URL:https://zukunftschecker.de/veranstaltung/parentum-magdeburg-2/
LOCATION:Festung Mark Magdeburg\, Hohepfortewall 1\, Magdeburg\, Sachsen-Anhalt\, 39104\, Deutschland
ATTACH;FMTTYPE=image/jpeg:https://zukunftschecker.de/wp-content/uploads/Design-ohne-Titel.jpg
END:VEVENT
END:VCALENDAR