BEGIN:VCALENDAR
VERSION:2.0
PRODID:-//Zukunftschecker #Ruediger - ECPv6.15.20//NONSGML v1.0//EN
CALSCALE:GREGORIAN
METHOD:PUBLISH
X-WR-CALNAME:Zukunftschecker #Ruediger
X-ORIGINAL-URL:https://zukunftschecker.de
X-WR-CALDESC:Veranstaltungen für Zukunftschecker #Ruediger
REFRESH-INTERVAL;VALUE=DURATION:PT1H
X-Robots-Tag:noindex
X-PUBLISHED-TTL:PT1H
BEGIN:VTIMEZONE
TZID:Europe/Berlin
BEGIN:DAYLIGHT
TZOFFSETFROM:+0100
TZOFFSETTO:+0200
TZNAME:CEST
DTSTART:20230326T010000
END:DAYLIGHT
BEGIN:STANDARD
TZOFFSETFROM:+0200
TZOFFSETTO:+0100
TZNAME:CET
DTSTART:20231029T010000
END:STANDARD
BEGIN:DAYLIGHT
TZOFFSETFROM:+0100
TZOFFSETTO:+0200
TZNAME:CEST
DTSTART:20240331T010000
END:DAYLIGHT
BEGIN:STANDARD
TZOFFSETFROM:+0200
TZOFFSETTO:+0100
TZNAME:CET
DTSTART:20241027T010000
END:STANDARD
BEGIN:DAYLIGHT
TZOFFSETFROM:+0100
TZOFFSETTO:+0200
TZNAME:CEST
DTSTART:20250330T010000
END:DAYLIGHT
BEGIN:STANDARD
TZOFFSETFROM:+0200
TZOFFSETTO:+0100
TZNAME:CET
DTSTART:20251026T010000
END:STANDARD
BEGIN:DAYLIGHT
TZOFFSETFROM:+0100
TZOFFSETTO:+0200
TZNAME:CEST
DTSTART:20260329T010000
END:DAYLIGHT
BEGIN:STANDARD
TZOFFSETFROM:+0200
TZOFFSETTO:+0100
TZNAME:CET
DTSTART:20261025T010000
END:STANDARD
END:VTIMEZONE
BEGIN:VEVENT
DTSTART;TZID=Europe/Berlin:20240926T070000
DTEND;TZID=Europe/Berlin:20250927T140000
DTSTAMP:20260424T003235
CREATED:20250722T114741Z
LAST-MODIFIED:20250722T131649Z
UID:2661-1727334000-1758981600@zukunftschecker.de
SUMMARY:Perspektiven Magdeburg
DESCRIPTION:26.-27. Sept. 25 – Ganztägiges Programm mit Ausstellerpräsentationen \nBereite dich vor\, sammle Informationen und starte durch auf der PERSPEKTIVEN Messe!
URL:https://zukunftschecker.de/veranstaltung/perspektiven-magdeburg-2024/
LOCATION:Messe Magdeburg\, Tessenowstraße 9a\, Magdeburg\, Sachsen-Anhalt\, 39114\, Deutschland
ATTACH;FMTTYPE=image/jpeg:https://zukunftschecker.de/wp-content/uploads/Unbenannt2.jpg
END:VEVENT
BEGIN:VEVENT
DTSTART;TZID=Europe/Berlin:20250512T110000
DTEND;TZID=Europe/Berlin:20250512T130000
DTSTAMP:20260424T003235
CREATED:20250427T065446Z
LAST-MODIFIED:20250428T065432Z
UID:3035-1747047600-1747054800@zukunftschecker.de
SUMMARY:Tag der Pflegeberufe
DESCRIPTION:12. Mai 25 – Über 20 Unternehmen aus Magdeburg und Umgebung bieten Beratungen rund um die Themen Ausbildung\, Arbeitsaufnahme und Quereinstieg im Bereich Pflege an. Die Messe ist frei zugänglich für alle\, die sich für eine Beschäftigung in der Pflege interessieren. Eine Anmeldung ist nicht erforderlich.
URL:https://zukunftschecker.de/veranstaltung/tag-der-pflegeberufe/
LOCATION:Alter Markt 6\, 39104 Magdeburg\, Alter Markt 6\, Magdeburg\, 39104
ATTACH;FMTTYPE=image/jpeg:https://zukunftschecker.de/wp-content/uploads/Beratungsimage_fuer_Messen.jpg
END:VEVENT
BEGIN:VEVENT
DTSTART;TZID=Europe/Berlin:20250521T080000
DTEND;TZID=Europe/Berlin:20250521T120000
DTSTAMP:20260424T003235
CREATED:20250426T065554Z
LAST-MODIFIED:20250428T065536Z
UID:2990-1747814400-1747828800@zukunftschecker.de
SUMMARY:Jobmesse Burg
DESCRIPTION:21. Mai 25 – Jobmesse in Burg – deine Chance auf den nächsten Karriereschritt! \nDu suchst einen Job oder willst dich beruflich neu orientieren? Dann komm zur Jobmesse des Jobcenters! \n📅 Datum: 21. Mai 2025🕙 Uhrzeit: 10 bis 14 Uhr📍 Ort: Stadthalle Burg\, Platz des Friedens 1\, 39288 Burg \nEntdecke spannende Jobangebote in den Bereichen Einzelhandel\, Metall\, Zeitarbeit\, Elektro\, Gastronomie\, Kfz\, Pflege\, Logistik und vielen mehr. Nutze die Gelegenheit\, direkt mit Arbeitgebern ins Gespräch zu kommen! \n📢 Keine Anmeldung nötig – einfach vorbeikommen!
URL:https://zukunftschecker.de/veranstaltung/jobmesse-burg/
LOCATION:Stadthalle Burg\, Platz des Friedens 1\, Burg\, 39288\, Germany
ATTACH;FMTTYPE=image/jpeg:https://zukunftschecker.de/wp-content/uploads/250217_Flyer_JC-1.jpg
END:VEVENT
END:VCALENDAR