BEGIN:VCALENDAR
VERSION:2.0
PRODID:-//Zukunftschecker #Ruediger - ECPv6.15.20//NONSGML v1.0//EN
CALSCALE:GREGORIAN
METHOD:PUBLISH
X-WR-CALNAME:Zukunftschecker #Ruediger
X-ORIGINAL-URL:https://zukunftschecker.de
X-WR-CALDESC:Veranstaltungen für Zukunftschecker #Ruediger
REFRESH-INTERVAL;VALUE=DURATION:PT1H
X-Robots-Tag:noindex
X-PUBLISHED-TTL:PT1H
BEGIN:VTIMEZONE
TZID:Europe/Berlin
BEGIN:DAYLIGHT
TZOFFSETFROM:+0100
TZOFFSETTO:+0200
TZNAME:CEST
DTSTART:20230326T010000
END:DAYLIGHT
BEGIN:STANDARD
TZOFFSETFROM:+0200
TZOFFSETTO:+0100
TZNAME:CET
DTSTART:20231029T010000
END:STANDARD
BEGIN:DAYLIGHT
TZOFFSETFROM:+0100
TZOFFSETTO:+0200
TZNAME:CEST
DTSTART:20240331T010000
END:DAYLIGHT
BEGIN:STANDARD
TZOFFSETFROM:+0200
TZOFFSETTO:+0100
TZNAME:CET
DTSTART:20241027T010000
END:STANDARD
BEGIN:DAYLIGHT
TZOFFSETFROM:+0100
TZOFFSETTO:+0200
TZNAME:CEST
DTSTART:20250330T010000
END:DAYLIGHT
BEGIN:STANDARD
TZOFFSETFROM:+0200
TZOFFSETTO:+0100
TZNAME:CET
DTSTART:20251026T010000
END:STANDARD
BEGIN:DAYLIGHT
TZOFFSETFROM:+0100
TZOFFSETTO:+0200
TZNAME:CEST
DTSTART:20260329T010000
END:DAYLIGHT
BEGIN:STANDARD
TZOFFSETFROM:+0200
TZOFFSETTO:+0100
TZNAME:CET
DTSTART:20261025T010000
END:STANDARD
END:VTIMEZONE
BEGIN:VEVENT
DTSTART;TZID=Europe/Berlin:20240907T080000
DTEND;TZID=Europe/Berlin:20240907T130000
DTSTAMP:20260424T110900
CREATED:20240821T113512Z
LAST-MODIFIED:20240821T113512Z
UID:2659-1725696000-1725714000@zukunftschecker.de
SUMMARY:Shop Your Future - Ausbildungs- und Weiterbildungsmeile
DESCRIPTION:7. Sept. 24 – Die erste „Shop Your Future“ Ausbildungs- und Weiterbildungsmeile ist eine einzigartige Veranstaltung in Kooperation mit der Wirtschaftsförderung der Landeshauptstadt Magdeburg. Im Florapark Magdeburg haben Sie die Möglichkeit\, sich zu Ausbildungs- und Weiterbildungsangeboten zu informieren.
URL:https://zukunftschecker.de/veranstaltung/shop-your-future-ausbildungs-und-weiterbildungsmeile/
LOCATION:Florapark\, Olvenstedter Graseweg 37\, Magdeburg\, 39128
ATTACH;FMTTYPE=image/jpeg:https://zukunftschecker.de/wp-content/uploads/messebild_search_16zu9.jpg
END:VEVENT
BEGIN:VEVENT
DTSTART;TZID=Europe/Berlin:20240926T070000
DTEND;TZID=Europe/Berlin:20250927T140000
DTSTAMP:20260424T110900
CREATED:20250722T114741Z
LAST-MODIFIED:20250722T131649Z
UID:2661-1727334000-1758981600@zukunftschecker.de
SUMMARY:Perspektiven Magdeburg
DESCRIPTION:26.-27. Sept. 25 – Ganztägiges Programm mit Ausstellerpräsentationen \nBereite dich vor\, sammle Informationen und starte durch auf der PERSPEKTIVEN Messe!
URL:https://zukunftschecker.de/veranstaltung/perspektiven-magdeburg-2024/
LOCATION:Messe Magdeburg\, Tessenowstraße 9a\, Magdeburg\, Sachsen-Anhalt\, 39114\, Deutschland
ATTACH;FMTTYPE=image/jpeg:https://zukunftschecker.de/wp-content/uploads/Unbenannt2.jpg
END:VEVENT
BEGIN:VEVENT
DTSTART;TZID=Europe/Berlin:20240926T073000
DTEND;TZID=Europe/Berlin:20240926T100000
DTSTAMP:20260424T110900
CREATED:20240702T095938Z
LAST-MODIFIED:20240702T100125Z
UID:2413-1727335800-1727344800@zukunftschecker.de
SUMMARY:Miniworkshop „Einführung in die Leichte Sprache“
DESCRIPTION:26. Sept. 2024 –\nDie Leichte Sprache ist ein Hilfsmittel. Sie ist eine leicht verständliche Sprache\, die\ngeschrieben\, aber auch gesprochen werden kann. Sie ermöglicht Menschen mit geringen\nLesekompetenzen und Menschen mit geistigen Beeinträchtigungen den selbständigen\nZugang zu Informationen. Auch Menschen\, für die deutsch nicht die Muttersprache ist\,\nprofitieren von diesem Angebot.\nNiemand soll ausgegrenzt werden\, weil die Sprache schwierig ist.\nDer Mini- Workshop vermittelt praxisnah wie und wo Leichte Sprache eingesetzt werden\nkann. \nZiel:\nDieser Mini-Workshop soll dazu beitragen\, eine inklusivere Arbeits- und Lernumgebung\nzu schaffen und Menschen mit geringen Deutschkenntnissen zu unterstützen und zu\nintegrieren. \nZielgruppe:\nBetriebe und Praktikumseinrichtungen\,\nBeschäftigte in der Verwaltung und in Beratungsstellen\,\nAusbilderinnen und Ausbilder in regionalen Betrieben\,\nNetzwerkpartner aus dem Netzwerk Inklusion im Landkreis Jerichower Land\,\nalle\, die beruflich oder ehrenamtlich mit Menschen arbeiten. \nInhalt:\nEntstehung und gesetzliche Grundlagen\,\nwichtigsten Regeln\, Übertragung des Regelwerkes auf das Sprechen\,\nHinweise und wertvolle Tipps zur Anwendung und Vorgehensweise bei der Umsetzung\nsowie Beispiele\nIm Anschluss besteht die Möglichkeit zum Austausch und zur Vernetzung. \nFür die Anmeldung und weitere Informationen zum Workshop wenden Sie sich bitte an:\nLandkreis Jerichower Land\nÖrtliches Teilhabemanagement\nFrau Erben\, Frau Müller\nTelefon: 03921 949 1016 oder 1020\nEmail: teilhabe@lkjl.de
URL:https://zukunftschecker.de/veranstaltung/miniworkshop-einfuehrung-in-die-leichte-sprache/
LOCATION:Kreisvolkshochschule Burg\, Magdeburger Straße 24-26\, Burg\, 39288
ATTACH;FMTTYPE=image/png:https://zukunftschecker.de/wp-content/uploads/EASY-OHARD.png
END:VEVENT
END:VCALENDAR