BEGIN:VCALENDAR
VERSION:2.0
PRODID:-//Zukunftschecker #Ruediger - ECPv6.15.20//NONSGML v1.0//EN
CALSCALE:GREGORIAN
METHOD:PUBLISH
X-ORIGINAL-URL:https://zukunftschecker.de
X-WR-CALDESC:Veranstaltungen für Zukunftschecker #Ruediger
REFRESH-INTERVAL;VALUE=DURATION:PT1H
X-Robots-Tag:noindex
X-PUBLISHED-TTL:PT1H
BEGIN:VTIMEZONE
TZID:Europe/Berlin
BEGIN:DAYLIGHT
TZOFFSETFROM:+0100
TZOFFSETTO:+0200
TZNAME:CEST
DTSTART:20230326T010000
END:DAYLIGHT
BEGIN:STANDARD
TZOFFSETFROM:+0200
TZOFFSETTO:+0100
TZNAME:CET
DTSTART:20231029T010000
END:STANDARD
BEGIN:DAYLIGHT
TZOFFSETFROM:+0100
TZOFFSETTO:+0200
TZNAME:CEST
DTSTART:20240331T010000
END:DAYLIGHT
BEGIN:STANDARD
TZOFFSETFROM:+0200
TZOFFSETTO:+0100
TZNAME:CET
DTSTART:20241027T010000
END:STANDARD
BEGIN:DAYLIGHT
TZOFFSETFROM:+0100
TZOFFSETTO:+0200
TZNAME:CEST
DTSTART:20250330T010000
END:DAYLIGHT
BEGIN:STANDARD
TZOFFSETFROM:+0200
TZOFFSETTO:+0100
TZNAME:CET
DTSTART:20251026T010000
END:STANDARD
END:VTIMEZONE
BEGIN:VEVENT
DTSTART;VALUE=DATE:20240611
DTEND;VALUE=DATE:20240612
DTSTAMP:20260424T145423
CREATED:20240326T100325Z
LAST-MODIFIED:20240402T072650Z
UID:2307-1718064000-1718236799@zukunftschecker.de
SUMMARY:Berufsorientierungsmesse Vocatium Magdeburg
DESCRIPTION:11. Juni – 12. Juni 2024 – Die Messe vocatium Magdeburg ist eine Fachmesse für Ausbildung+Studium\, die Unternehmen\, Fach- und Hochschulen\, Akademien sowie Institutionen mit jungen Menschen zum Thema Berufswahl in den persönlichen Dialog bringt. Alleinstellungsmerkmal der vocatium Messe Magdeburg sind gut vorbereitete und terminierte Gespräche zwischen Schüler*innen und Ausstellern. Qualität und Nutzen des Beratungsgesprächs sind dadurch sowohl für die Aussteller als auch die Jugendlichen höher als bei einer herkömmlichen Berufsorientierungsmesse. Vor der Messe werden die Schüler*innen im Unterricht durch das Team des Veranstalters IfT Institut für Talententwicklung auf den Messebesuch vorbereitet. Im Anschluss daran organisiert das IfT für die Schüler*innen passgenaue\, ihren beruflichen Interessen und Wünschen entsprechende Einzeltermine mit den Ausstellern. Diese individuellen Termine erhalten die Schüler*innen 14 Tage vor dem Messetermin\, damit sie sich gezielt mit Fragen und ggf. einer Bewerbungsmappe auf ihr Gespräch auf der Ausbildungsmesse vorbereiten können. Spontanbesucher*innen ohne Termine sind auf der Studienmesse ebenfalls herzlich willkommen. Neben den persönlichen Gesprächen mit den Ausstellern wird allen Besucher*innen der vocatium Magdeburg ein informatives Vortragsprogramm geboten. Das einzigartige Messekonzept mit terminierten Gesprächen hat sich deutschlandweit an 90 Standorten durchgesetzt. Der Veranstalter blickt dabei auf 20 Jahre Erfahrung zurück und motiviert jährlich 500.000 junge Menschen ihre Talente zu erkennen\, zu entwickeln und ihre Berufs- und Studienwahl gut vorzubereiten. Damit führt das IfT nicht nur in punkto Gesprächs-Qualität bei Berufsorientierungsmessen\, sondern ist auch der einzige Anbieter\, der in nahezu jeder Region Deutschlands vertreten ist.
URL:https://zukunftschecker.de/veranstaltung/vocatium-magdeburg-2/
LOCATION:Maritim Hotel Magdeburg\, Otto-von-Guericke-Strasse 87\, Magdeburg\, Sachsen-Anhalt\, 39104\, Deutschland
ATTACH;FMTTYPE=image/jpeg:https://zukunftschecker.de/wp-content/uploads/messebild_search_16zu9.jpg
END:VEVENT
BEGIN:VEVENT
DTSTART;VALUE=DATE:20240624
DTEND;VALUE=DATE:20240705
DTSTAMP:20260424T145423
CREATED:20240531T115226Z
LAST-MODIFIED:20240531T120646Z
UID:2341-1719187200-1720223999@zukunftschecker.de
SUMMARY:Dein Date mit dem Landkreis!
DESCRIPTION:24. Juni – 5. Juli 2024 – Nimm teil am zweiten Berufsorientierungspraktikum in der Kreisverwaltung! Du bist in der 9. bis 11. Klasse? Super! – Dann erhalte während des zweiwöchigen Praktikums einen exklusiven Einblick in die Verwaltungsarbeit sowie die Arbeitsabläufe und die Ausbildung zur Verwaltungsfachgestellten. In dieser Zeit lernst du die verschiedenen Bereiche der Kreisverwaltung kennen und erfährst unter anderem von Auszubildenden aus erster Hand\, welche Aufgaben in der Kreisverwaltung anstehen. Ein Bewerbungstraining bereitet dich zusätzlich auf den bevorstehenden Einstieg ins Berufsleben vor. \nInteressiert? Eine Anmeldung ist bis zum 10. Juni unter bildungsstelle@lkjl.de möglich.
URL:https://zukunftschecker.de/veranstaltung/dein-date-mit-dem-landkreis/
LOCATION:Landkreis Jerichower Land
ATTACH;FMTTYPE=image/jpeg:https://zukunftschecker.de/wp-content/uploads/Flyer-Berufsorientierungspraktikum-001.jpg
END:VEVENT
END:VCALENDAR