BEGIN:VCALENDAR
VERSION:2.0
PRODID:-//Zukunftschecker #Ruediger - ECPv6.15.20//NONSGML v1.0//EN
CALSCALE:GREGORIAN
METHOD:PUBLISH
X-ORIGINAL-URL:https://zukunftschecker.de
X-WR-CALDESC:Veranstaltungen für Zukunftschecker #Ruediger
REFRESH-INTERVAL;VALUE=DURATION:PT1H
X-Robots-Tag:noindex
X-PUBLISHED-TTL:PT1H
BEGIN:VTIMEZONE
TZID:Europe/Berlin
BEGIN:DAYLIGHT
TZOFFSETFROM:+0100
TZOFFSETTO:+0200
TZNAME:CEST
DTSTART:20230326T010000
END:DAYLIGHT
BEGIN:STANDARD
TZOFFSETFROM:+0200
TZOFFSETTO:+0100
TZNAME:CET
DTSTART:20231029T010000
END:STANDARD
BEGIN:DAYLIGHT
TZOFFSETFROM:+0100
TZOFFSETTO:+0200
TZNAME:CEST
DTSTART:20240331T010000
END:DAYLIGHT
BEGIN:STANDARD
TZOFFSETFROM:+0200
TZOFFSETTO:+0100
TZNAME:CET
DTSTART:20241027T010000
END:STANDARD
BEGIN:DAYLIGHT
TZOFFSETFROM:+0100
TZOFFSETTO:+0200
TZNAME:CEST
DTSTART:20250330T010000
END:DAYLIGHT
BEGIN:STANDARD
TZOFFSETFROM:+0200
TZOFFSETTO:+0100
TZNAME:CET
DTSTART:20251026T010000
END:STANDARD
END:VTIMEZONE
BEGIN:VEVENT
DTSTART;VALUE=DATE:20240516
DTEND;VALUE=DATE:20240516
DTSTAMP:20260424T161548
CREATED:20240326T095644Z
LAST-MODIFIED:20240402T072224Z
UID:2306-1715817600-1715903999@zukunftschecker.de
SUMMARY:WEGWEISER Messe - IHK Magdeburg
DESCRIPTION:16. Mai 2024 – Die Messe WEGWEISER in Magdeburg ist eine Messe zum dualen Studium. Mehr als 20 Unternehmen aus verschiedenen Branchen\, Hochschulen und die Universität der Region informieren auf der WEGWEISER Messe in Magdeburg über ihre Angebote und Programme zum dualen Studium und stehen für alle Fragen zur Verfügung. Ergänzt wird das Angebot der Messe WEGWEISER in Magdeburg von informativen Impulsvorträgen rund um das Thema.
URL:https://zukunftschecker.de/veranstaltung/wegweiser-messe-ihk-magdeburg/
LOCATION:Tagungszentrum der IHK Magdeburg\, Alter Markt 8\, Magdeburg\, Sachsen-Anhalt\, 39104\, Deutschland
ATTACH;FMTTYPE=image/jpeg:https://zukunftschecker.de/wp-content/uploads/Beratungsimage_fuer_Messen.jpg
END:VEVENT
END:VCALENDAR