BEGIN:VCALENDAR
VERSION:2.0
PRODID:-//Zukunftschecker #Ruediger - ECPv6.15.20//NONSGML v1.0//EN
CALSCALE:GREGORIAN
METHOD:PUBLISH
X-ORIGINAL-URL:https://zukunftschecker.de
X-WR-CALDESC:Veranstaltungen für Zukunftschecker #Ruediger
REFRESH-INTERVAL;VALUE=DURATION:PT1H
X-Robots-Tag:noindex
X-PUBLISHED-TTL:PT1H
BEGIN:VTIMEZONE
TZID:Europe/Berlin
BEGIN:DAYLIGHT
TZOFFSETFROM:+0100
TZOFFSETTO:+0200
TZNAME:CEST
DTSTART:20250330T010000
END:DAYLIGHT
BEGIN:STANDARD
TZOFFSETFROM:+0200
TZOFFSETTO:+0100
TZNAME:CET
DTSTART:20251026T010000
END:STANDARD
BEGIN:DAYLIGHT
TZOFFSETFROM:+0100
TZOFFSETTO:+0200
TZNAME:CEST
DTSTART:20260329T010000
END:DAYLIGHT
BEGIN:STANDARD
TZOFFSETFROM:+0200
TZOFFSETTO:+0100
TZNAME:CET
DTSTART:20261025T010000
END:STANDARD
BEGIN:DAYLIGHT
TZOFFSETFROM:+0100
TZOFFSETTO:+0200
TZNAME:CEST
DTSTART:20270328T010000
END:DAYLIGHT
BEGIN:STANDARD
TZOFFSETFROM:+0200
TZOFFSETTO:+0100
TZNAME:CET
DTSTART:20271031T010000
END:STANDARD
END:VTIMEZONE
BEGIN:VEVENT
DTSTART;TZID=Europe/Berlin:20260423T060000
DTEND;TZID=Europe/Berlin:20260423T150000
DTSTAMP:20260423T072042
CREATED:20251025T065847Z
LAST-MODIFIED:20251117T070421Z
UID:2735-1776924000-1776956400@zukunftschecker.de
SUMMARY:Zukunftstag 2026
DESCRIPTION:23. April 26 – Am Zukunftstag 2026 kannst du Einblicke in die Berufswelt bei Unternehmen vor Ort gewinnen. Firmen und Institutionen im Jerichower Land öffnen ihre Türen und bieten dir die Möglichkeit\, Berufe praxisnah kennenzulernen – ob handwerkliche\, technische oder soziale Berufe. An diesem Tag kannst du aktiv ausprobieren und herausfinden\, wo deine Interessen und Stärken liegen.\nViele Unternehmen und Einrichtungen des Jerichower Landes stellen ihre Angebote auf dem Girls’Day- bzw. Boys’Day-​Radar ein. Hier ist die Anmeldung direkt möglich.
URL:https://zukunftschecker.de/veranstaltung/zukunftstag-2025/
ATTACH;FMTTYPE=image/jpeg:https://zukunftschecker.de/wp-content/uploads/logo-boysday-girlsday.jpg
END:VEVENT
BEGIN:VEVENT
DTSTART;TZID=Europe/Berlin:20260630T063000
DTEND;TZID=Europe/Berlin:20260701T130000
DTSTAMP:20260423T072042
CREATED:20260210T071302Z
LAST-MODIFIED:20260223T130106Z
UID:3558-1782801000-1782910800@zukunftschecker.de
SUMMARY:vocatium Magdeburg
DESCRIPTION:30. Juni / 1. Juli 26 – vocatium Magdeburg \n\nFinde heraus\, welcher Beruf der richtige für dich ist.\nLerne Ausbildungsbetriebe und Hochschulen kennen\, die zu dir passen.\nSprich mit den Berater/innen der Aussteller über Ausbildung\, (duales) Studium oder Praktikum.\nErfahre\, welche Möglichkeiten es rund um Freiwilligendienst und Auslandsaufenthalt für dich gibt.\nStelle dich wichtigen Entscheider/innen vor.\nInformiere dich in Vorträgen.
URL:https://zukunftschecker.de/veranstaltung/vocatium-magdeburg-3/
LOCATION:Maritim Hotel Magdeburg\, Otto-von-Guericke-Strasse 87\, Magdeburg\, Sachsen-Anhalt\, 39104\, Deutschland
ATTACH;FMTTYPE=image/jpeg:https://zukunftschecker.de/wp-content/uploads/Bildschirmfoto_8-1-2026_141225_www.vocatium.de_.jpeg
END:VEVENT
END:VCALENDAR